BEGIN:VCALENDAR
VERSION:2.0
PRODID:-//OC Bjelašnica - Zvanična stranica - ECPv6.9.0//NONSGML v1.0//EN
CALSCALE:GREGORIAN
METHOD:PUBLISH
X-ORIGINAL-URL:https://ocbjelasnica.com
X-WR-CALDESC:Events for OC Bjelašnica - Zvanična stranica
REFRESH-INTERVAL;VALUE=DURATION:PT1H
X-Robots-Tag:noindex
X-PUBLISHED-TTL:PT1H
BEGIN:VTIMEZONE
TZID:Europe/Sarajevo
BEGIN:DAYLIGHT
TZOFFSETFROM:+0100
TZOFFSETTO:+0200
TZNAME:CEST
DTSTART:20230326T010000
END:DAYLIGHT
BEGIN:STANDARD
TZOFFSETFROM:+0200
TZOFFSETTO:+0100
TZNAME:CET
DTSTART:20231029T010000
END:STANDARD
BEGIN:DAYLIGHT
TZOFFSETFROM:+0100
TZOFFSETTO:+0200
TZNAME:CEST
DTSTART:20240331T010000
END:DAYLIGHT
BEGIN:STANDARD
TZOFFSETFROM:+0200
TZOFFSETTO:+0100
TZNAME:CET
DTSTART:20241027T010000
END:STANDARD
END:VTIMEZONE
BEGIN:VEVENT
DTSTART;TZID=Europe/Sarajevo:20240121T200000
DTEND;TZID=Europe/Sarajevo:20240121T230000
DTSTAMP:20260423T234958
CREATED:20240115T094039Z
LAST-MODIFIED:20240115T094039Z
UID:3743-1705867200-1705878000@ocbjelasnica.com
SUMMARY:Vedran i Berna – Ski bar STAZA
DESCRIPTION:Divni duo Vedran i Berna. Uživajte u laganoj atmosferi i predivnoj melodiji koju ovaj duo stvara.
URL:https://ocbjelasnica.com/event/vedran-i-berna-ski-bar-staza-3/
CATEGORIES:Staza
ATTACH;FMTTYPE=image/jpeg:https://ocbjelasnica.com/wp-content/uploads/2023/12/viber_image_2023-12-26_11-06-47-429.jpg
END:VEVENT
BEGIN:VEVENT
DTSTART;VALUE=DATE:20240121
DTEND;VALUE=DATE:20240122
DTSTAMP:20260423T234958
CREATED:20231225T132032Z
LAST-MODIFIED:20231225T132032Z
UID:3598-1705795200-1705881599@ocbjelasnica.com
SUMMARY:Mađioničar Almir - Ski bar STAZA
DESCRIPTION:Magic in Staza je događaj u kojem posebno uživaju najmlađi. Naš mađioničar (iluzionista) Almir\, postavlja interaktivnu mađioničarsku predstavu koja u toku jednog sata daje najbolje iz svijeta magije i iluzija vašoj djeci. Njegovi pomagači su naši najmlađi đaci Staze. Način na koji ih svaki put očara\, a način na koji čak i uhvati čuda odraslih je zaista čaroban. U ovom showu očekujte sve kul trikove gdje možete vidjeti njegove prijatelje: prelijepog bijelog goluba i veoma slatkog zečića. Ipak\, predstava je potpuno sigurna za djecu.
URL:https://ocbjelasnica.com/event/madjionicar-almir-ski-bar-staza/
CATEGORIES:Staza
ATTACH;FMTTYPE=image/webp:https://ocbjelasnica.com/wp-content/uploads/2023/12/662c39_7cd369cdb76a47fe9072f5d81352afa4mv2.webp
END:VEVENT
BEGIN:VEVENT
DTSTART;VALUE=DATE:20240119
DTEND;VALUE=DATE:20240120
DTSTAMP:20260423T234958
CREATED:20231225T130544Z
LAST-MODIFIED:20231226T102417Z
UID:3592-1705622400-1705708799@ocbjelasnica.com
SUMMARY:Ajla Acoustic Trio - Ski bar STAZA
DESCRIPTION:Ljubitelji dobre muzike\, pozivamo vas da nas posjetite u petak i uživate u nezaboravnom muzičkom ambijentu uz nastup Ajle Uz ugodne tonove i svirku uživo\, sigurni smo da ćete provesti jednu od najljepših večeri sa nama!Ljubitelji dobre muzike\, pozivamo vas da nas posjetite u petak i uživate u nezaboravnom muzičkom ambijentu uz nastup Ajle Uz ugodne tonove i svirku uživo\, sigurni smo da ćete provesti jednu od najljepših večeri sa nama!
URL:https://ocbjelasnica.com/event/ajla-acoustic-trio-ski-bar-staza-3/
CATEGORIES:Staza
ATTACH;FMTTYPE=image/jpeg:https://ocbjelasnica.com/wp-content/uploads/2023/12/viber_image_2023-12-26_11-20-56-204.jpg
END:VEVENT
BEGIN:VEVENT
DTSTART;VALUE=DATE:20240114
DTEND;VALUE=DATE:20240115
DTSTAMP:20260423T234958
CREATED:20231225T130328Z
LAST-MODIFIED:20231225T130328Z
UID:3588-1705190400-1705276799@ocbjelasnica.com
SUMMARY:Druženje sa Medom i Barbie - Ski bar STAZA
DESCRIPTION:Dragi mališani\, Pripremite se za čarobno druženje sa Medom i Barbie u ski baru “Staza”! Očekuje dan ispunjen igrom\, smjehom i fotografijama sa omiljenim likovima. Pridružite nam se za nezaboravno iskustvo! Vidimo se!
URL:https://ocbjelasnica.com/event/druzenje-sa-medom-i-barbie-ski-bar-staza/
CATEGORIES:Staza
ATTACH;FMTTYPE=image/jpeg:https://ocbjelasnica.com/wp-content/uploads/2023/12/rev-1-bar-tt2-004_high_res_jpeg-4096x1943-1-scaled.jpg
END:VEVENT
BEGIN:VEVENT
DTSTART;VALUE=DATE:20240113
DTEND;VALUE=DATE:20240114
DTSTAMP:20260423T234958
CREATED:20231225T125605Z
LAST-MODIFIED:20231226T102320Z
UID:3585-1705104000-1705190399@ocbjelasnica.com
SUMMARY:Ajla Acoustic Trio - Ski bar STAZA
DESCRIPTION:Ljubitelji dobre muzike\, pozivamo vas da nas posjetite u petak i uživate u nezaboravnom muzičkom ambijentu uz nastup Ajle Uz ugodne tonove i svirku uživo\, sigurni smo da ćete provesti jednu od najljepših večeri sa nama!Ljubitelji dobre muzike\, pozivamo vas da nas posjetite u petak i uživate u nezaboravnom muzičkom ambijentu uz nastup Ajle Uz ugodne tonove i svirku uživo\, sigurni smo da ćete provesti jednu od najljepših večeri sa nama!
URL:https://ocbjelasnica.com/event/ajla-acoustic-trio-ski-bar-staza-2/
CATEGORIES:Staza
ATTACH;FMTTYPE=image/jpeg:https://ocbjelasnica.com/wp-content/uploads/2023/12/viber_image_2023-12-26_11-20-56-204.jpg
END:VEVENT
BEGIN:VEVENT
DTSTART;VALUE=DATE:20240112
DTEND;VALUE=DATE:20240113
DTSTAMP:20260423T234958
CREATED:20231225T125420Z
LAST-MODIFIED:20231226T101704Z
UID:3581-1705017600-1705103999@ocbjelasnica.com
SUMMARY:Ammara Mistrić Trio - Ski bar STAZA
DESCRIPTION:Muzička karijera s bendom (od 2009.) bilježi dugi niz nastupa koji se uglavnom svode na evente sa profesionalnom organizacijom i izvođenjem (privatni i javni eventi) te klupske svirke\, a Njena najpopularnija pjesma je “Vrata snova”. Ammara Mistrić je dijelila stage sa bendom Neverne bebe iz Srbije\, pjevala prateće vokale Bebeku\, i Dadi Topiću. Stil koji njeguje u svojim pjesmama je pop/rock\, sa primjesama soula i funka. 
URL:https://ocbjelasnica.com/event/ammara-mistric-trio-ski-bar-staza/
CATEGORIES:Staza
ATTACH;FMTTYPE=image/jpeg:https://ocbjelasnica.com/wp-content/uploads/2023/12/viber_image_2023-12-26_11-14-02-877.jpg
END:VEVENT
BEGIN:VEVENT
DTSTART;VALUE=DATE:20240111
DTEND;VALUE=DATE:20240112
DTSTAMP:20260423T234958
CREATED:20231225T125211Z
LAST-MODIFIED:20231225T125211Z
UID:3579-1704931200-1705017599@ocbjelasnica.com
SUMMARY:KVIZ - Ski bar STAZA
DESCRIPTION:Skijaši i skijašice\, ljubitelji zimskih izazova\, Pripremite se za uzbuđenje na stazi intelekta jer vas pozivamo na uzbudljivi Zimski Kviz u našem ski baru “Staza “!  Okupite svoje prijatelje\, testirajte svoje znanje i osvojite sjajne nagrade uz dobru zabavu.
URL:https://ocbjelasnica.com/event/kviz-ski-bar-staza-2/
CATEGORIES:Staza
ATTACH;FMTTYPE=image/png:https://ocbjelasnica.com/wp-content/uploads/2023/12/Quiz-banner-2.png
END:VEVENT
BEGIN:VEVENT
DTSTART;VALUE=DATE:20240107
DTEND;VALUE=DATE:20240108
DTSTAMP:20260423T234958
CREATED:20231225T125021Z
LAST-MODIFIED:20231225T125021Z
UID:3575-1704585600-1704671999@ocbjelasnica.com
SUMMARY:Mađioničar Kenan - Ski bar STAZA
DESCRIPTION:“U mojim nastupima magija je obavezno začinjena komedijom i interaktivnog je karaktera tako da odmah imam i povratne informacije”
URL:https://ocbjelasnica.com/event/madjionicar-kenan-ski-bar-staza/
CATEGORIES:Staza
ATTACH;FMTTYPE=image/jpeg:https://ocbjelasnica.com/wp-content/uploads/2023/12/409659953_946425153724741_166976881679504715_n.jpg
END:VEVENT
BEGIN:VEVENT
DTSTART;VALUE=DATE:20240106
DTEND;VALUE=DATE:20240107
DTSTAMP:20260423T234958
CREATED:20231225T124555Z
LAST-MODIFIED:20231225T124555Z
UID:3571-1704499200-1704585599@ocbjelasnica.com
SUMMARY:Dernex - Ski bar STAZA
DESCRIPTION:Ljubitelji dobrog zvuka\, spremite se za nezaboravnu noć u ski baru “Staza”! Doživite pravu rokenrol eksploziju uz grupu Derrnex. Ova energična rock grupa donosi vam vrelu atmosferu staze uz svoje hitove i klasike rock muzike. Zabava je zagarantovana\, ritam će vas podići\, a skijaški duh će se preneti na plesni podijum. Pridružite nam se na stazi “Staza” i dozvolite Derrnex-u da vas provoza kroz nezaboravnu rok avanturu!
URL:https://ocbjelasnica.com/event/dernex-ski-bar-staza/
CATEGORIES:Staza
ATTACH;FMTTYPE=image/jpeg:https://ocbjelasnica.com/wp-content/uploads/2023/12/276087100_1934915510051829_3053414383897677840_n.jpg
END:VEVENT
BEGIN:VEVENT
DTSTART;VALUE=DATE:20240105
DTEND;VALUE=DATE:20240106
DTSTAMP:20260423T234958
CREATED:20231225T123943Z
LAST-MODIFIED:20231226T103308Z
UID:3567-1704412800-1704499199@ocbjelasnica.com
SUMMARY:Dženan Selmanagić - Ski bar STAZA
DESCRIPTION:Dragi ljubitelji dobre muzike\, pozivamo vas na nezaboravan muzički doživljaj u našem ski baru. Atmosfera će biti vrhunska\, zvuci će vas obuzeti\, a noć obećava nezaboravan doživljaj. Pridružite nam se i pustite muziku neka vas nosi na ovoj posebnoj stazi uz Dženana Selmanagića. Vidimo se!
URL:https://ocbjelasnica.com/event/dzenan-selmanagic-ski-bar-staza/
CATEGORIES:Staza
ATTACH;FMTTYPE=image/jpeg:https://ocbjelasnica.com/wp-content/uploads/2023/12/viber_image_2023-12-26_11-29-19-147.jpg
END:VEVENT
BEGIN:VEVENT
DTSTART;VALUE=DATE:20240104
DTEND;VALUE=DATE:20240105
DTSTAMP:20260423T234958
CREATED:20231225T123159Z
LAST-MODIFIED:20231225T123159Z
UID:3563-1704326400-1704412799@ocbjelasnica.com
SUMMARY:KVIZ - Ski bar STAZA
DESCRIPTION:Skijaši i skijašice\, ljubitelji zimskih izazova\, Pripremite se za uzbuđenje na stazi intelekta jer vas pozivamo na uzbudljivi Zimski Kviz u našem ski baru “Staza “!  Okupite svoje prijatelje\, testirajte svoje znanje i osvojite sjajne nagrade uz dobru zabavu.
URL:https://ocbjelasnica.com/event/kviz-ski-bar-staza/
CATEGORIES:Staza
ATTACH;FMTTYPE=image/png:https://ocbjelasnica.com/wp-content/uploads/2023/12/Quiz-banner-2.png
END:VEVENT
BEGIN:VEVENT
DTSTART;VALUE=DATE:20240101
DTEND;VALUE=DATE:20240102
DTSTAMP:20260423T234958
CREATED:20231225T122823Z
LAST-MODIFIED:20231226T102210Z
UID:3559-1704067200-1704153599@ocbjelasnica.com
SUMMARY:Ajla Acoustic Trio - Ski bar STAZA
DESCRIPTION:Ljubitelji dobre muzike\, pozivamo vas da nas posjetite u petak i uživate u nezaboravnom muzičkom ambijentu uz nastup Ajle Uz ugodne tonove i svirku uživo\, sigurni smo da ćete provesti jednu od najljepših večeri sa nama!
URL:https://ocbjelasnica.com/event/ajla-acoustic-trio-ski-bar-staza/
CATEGORIES:Staza
ATTACH;FMTTYPE=image/jpeg:https://ocbjelasnica.com/wp-content/uploads/2023/12/viber_image_2023-12-26_11-20-56-204.jpg
END:VEVENT
BEGIN:VEVENT
DTSTART;VALUE=DATE:20231231
DTEND;VALUE=DATE:20240101
DTSTAMP:20260423T234958
CREATED:20231225T122359Z
LAST-MODIFIED:20231225T122359Z
UID:3554-1703980800-1704067199@ocbjelasnica.com
SUMMARY:Ašik bend - Ski bar STAZA
DESCRIPTION:Ašik bend je Sarajevski bend koji u svom sastavu ima četiri člana izvjesnih muzičara i tamburaša. Bend očarava svojim jedinstvenim zvukom\, spojem harmonike\, klarineta\, gitare i tarabuke. Njihova muzička čarolija prožima harmonične tonove harmonike\, duhovne melodije klarineta\, ritmički šarm gitare i egzotični doživljaj tarabuke. Ova raznolikost instrumenata stvara nezaboravan audio pejzaž koji istražuje bogatstvo različitih zvučnih tekstura.
URL:https://ocbjelasnica.com/event/asik-bend-ski-bar-staza/
CATEGORIES:Staza
ATTACH;FMTTYPE=image/jpeg:https://ocbjelasnica.com/wp-content/uploads/2023/12/BAn0Iejm.jpg
END:VEVENT
BEGIN:VEVENT
DTSTART;VALUE=DATE:20231230
DTEND;VALUE=DATE:20231231
DTSTAMP:20260423T234958
CREATED:20231225T122203Z
LAST-MODIFIED:20231226T102747Z
UID:3549-1703894400-1703980799@ocbjelasnica.com
SUMMARY:Doček Nove Godine - Ski bar STAZA
DESCRIPTION:Dunja Fazlić je pjevačica koja je bila dio programa “Zvijezda možeš biti ti”\, a i za sebe nosi mnoge godine muzičke karijere. Jedan od omiljenih izvođača\, čije pjesme Dunja često pjeva\, je legendarni Đorđe Balašević. Njen glas ukrašava Adna Mahić\, svojim maestralnim sviranjem gitare. Njih dvije skupa čine idealan duo za balade. Dođite u Ski bar Stazu u 20:00h\, čeka vas lijep doček Nove godine. 
URL:https://ocbjelasnica.com/event/docek-nove-godine-ski-bar-staza/
CATEGORIES:Staza
ATTACH;FMTTYPE=image/jpeg:https://ocbjelasnica.com/wp-content/uploads/2023/12/viber_image_2023-12-26_11-26-38-531.jpg
END:VEVENT
BEGIN:VEVENT
DTSTART;VALUE=DATE:20231230
DTEND;VALUE=DATE:20231231
DTSTAMP:20260423T234958
CREATED:20231225T121109Z
LAST-MODIFIED:20231225T121109Z
UID:3544-1703894400-1703980799@ocbjelasnica.com
SUMMARY:Doček Nove Godine za djecu - Ski bar STAZA
DESCRIPTION:Pridružite nam se na maškarama i susretu sa Djedom Mrazom u ski baru “Staza”\, 30. Decembra\, od 11 sati. Stavite svoje najluđe maske\, uživajte u sjajnoj atmosferi\, i doživite nezaboravnu zimsku magiju sa Djedom Mrazom. Vidimo se u stazi!
URL:https://ocbjelasnica.com/event/docek-nove-godine-za-djecu-ski-bar-staza/
CATEGORIES:Staza
ATTACH;FMTTYPE=image/jpeg:https://ocbjelasnica.com/wp-content/uploads/2023/12/OIP.jpg
END:VEVENT
BEGIN:VEVENT
DTSTART;VALUE=DATE:20231223
DTEND;VALUE=DATE:20231224
DTSTAMP:20260423T234958
CREATED:20231215T113346Z
LAST-MODIFIED:20231215T113346Z
UID:3024-1703289600-1703375999@ocbjelasnica.com
SUMMARY:ADNA SVRAKA- Restoran Staza
DESCRIPTION:Adna Svraka je mlada pjevačica koja je svoju karijeru obilježila u poznatom balkanskom showu “Zvezda Granda”. Adna dolazi iz Sarajeva\, a njen najdraži oblik muzike je rock. Mlada rokerica osvojila je srca publike svojim neobičnim stilom i snažnim glasom\, a njeni rok nastupi su kombinacija buntovnosti i autentičnosti.
URL:https://ocbjelasnica.com/event/adna-svraka-restoran-staza/
CATEGORIES:Restorani i barovi,Staza
ATTACH;FMTTYPE=image/jpeg:https://ocbjelasnica.com/wp-content/uploads/2023/12/b_221120053.jpg
END:VEVENT
BEGIN:VEVENT
DTSTART;VALUE=DATE:20231222
DTEND;VALUE=DATE:20231223
DTSTAMP:20260423T234958
CREATED:20231215T111638Z
LAST-MODIFIED:20231226T101534Z
UID:3014-1703203200-1703289599@ocbjelasnica.com
SUMMARY:AMMARA TRIO- Ski bar STAZA
DESCRIPTION:Muzička karijera s bendom (od 2009.) bilježi dugi niz nastupa koji se uglavnom svode na evente sa profesionalnom organizacijom i izvođenjem (privatni i javni eventi) te klupske svirke\, a Njena najpopularnija pjesma je “Vrata snova”. Ammara Mistrić je dijelila stage sa bendom Neverne bebe iz Srbije\, pjevala prateće vokale Bebeku\, i Dadi Topiću. Stil koji njeguje u svojim pjesmama je pop/rock\, sa primjesama soula i funka.
URL:https://ocbjelasnica.com/event/ammara-trio-restoran-staza/
CATEGORIES:Restorani i barovi,Staza
ATTACH;FMTTYPE=image/jpeg:https://ocbjelasnica.com/wp-content/uploads/2023/12/viber_image_2023-12-26_11-14-02-877.jpg
END:VEVENT
END:VCALENDAR