BEGIN:VCALENDAR
VERSION:2.0
PRODID:-//OC Bjelašnica - Zvanična stranica - ECPv6.9.0//NONSGML v1.0//EN
CALSCALE:GREGORIAN
METHOD:PUBLISH
X-WR-CALNAME:OC Bjelašnica - Zvanična stranica
X-ORIGINAL-URL:https://ocbjelasnica.com
X-WR-CALDESC:Events for OC Bjelašnica - Zvanična stranica
REFRESH-INTERVAL;VALUE=DURATION:PT1H
X-Robots-Tag:noindex
X-PUBLISHED-TTL:PT1H
BEGIN:VTIMEZONE
TZID:Europe/Sarajevo
BEGIN:DAYLIGHT
TZOFFSETFROM:+0100
TZOFFSETTO:+0200
TZNAME:CEST
DTSTART:20240331T010000
END:DAYLIGHT
BEGIN:STANDARD
TZOFFSETFROM:+0200
TZOFFSETTO:+0100
TZNAME:CET
DTSTART:20241027T010000
END:STANDARD
END:VTIMEZONE
BEGIN:VEVENT
DTSTART;VALUE=DATE:20240211
DTEND;VALUE=DATE:20240212
DTSTAMP:20260423T170445
CREATED:20231225T135442Z
LAST-MODIFIED:20231225T135442Z
UID:3614-1707609600-1707695999@ocbjelasnica.com
SUMMARY:Mađioničar Kenan - Ski bar STAZA
DESCRIPTION:“U mojim nastupima magija je obavezno začinjena komedijom i interaktivnog je karaktera tako da odmah imam i povratne informacije”
URL:https://ocbjelasnica.com/event/madjionicar-kenan-ski-bar-staza-3/
CATEGORIES:Staza
ATTACH;FMTTYPE=image/jpeg:https://ocbjelasnica.com/wp-content/uploads/2023/12/409659953_946425153724741_166976881679504715_n.jpg
END:VEVENT
END:VCALENDAR