BEGIN:VCALENDAR
VERSION:2.0
PRODID:-//OC Bjelašnica - Zvanična stranica - ECPv6.9.0//NONSGML v1.0//EN
CALSCALE:GREGORIAN
METHOD:PUBLISH
X-WR-CALNAME:OC Bjelašnica - Zvanična stranica
X-ORIGINAL-URL:https://ocbjelasnica.com
X-WR-CALDESC:Events for OC Bjelašnica - Zvanična stranica
REFRESH-INTERVAL;VALUE=DURATION:PT1H
X-Robots-Tag:noindex
X-PUBLISHED-TTL:PT1H
BEGIN:VTIMEZONE
TZID:Europe/Sarajevo
BEGIN:DAYLIGHT
TZOFFSETFROM:+0100
TZOFFSETTO:+0200
TZNAME:CEST
DTSTART:20240331T010000
END:DAYLIGHT
BEGIN:STANDARD
TZOFFSETFROM:+0200
TZOFFSETTO:+0100
TZNAME:CET
DTSTART:20241027T010000
END:STANDARD
END:VTIMEZONE
BEGIN:VEVENT
DTSTART;VALUE=DATE:20240204
DTEND;VALUE=DATE:20240205
DTSTAMP:20260423T170425
CREATED:20231225T134100Z
LAST-MODIFIED:20231225T134100Z
UID:3608-1707004800-1707091199@ocbjelasnica.com
SUMMARY:Druženje sa Minnie i Mickijem
DESCRIPTION:Dragi mališani i roditelji\, Uzbudljivo druženje s omiljenim crtanim junacima vas čeka u ski baru “Staza”! Miki i Mini će nas obradovati svojim prisustvom\, donoseći čaroliju i smijeh. Djeca će imati priliku za fotografisanje\, igru i uživanje u posebnim aktivnostima koje smo pripremili. Svi ste pozvani da se pridružite ovom magičnom trenutku\, gdje će se svijet Miki i Minnie Mouse spojiti sa zimskim veseljem.
URL:https://ocbjelasnica.com/event/druzenje-sa-minnie-i-mickijem/
CATEGORIES:Staza
END:VEVENT
END:VCALENDAR