BEGIN:VCALENDAR
VERSION:2.0
PRODID:-//OC Bjelašnica - Zvanična stranica - ECPv6.9.0//NONSGML v1.0//EN
CALSCALE:GREGORIAN
METHOD:PUBLISH
X-ORIGINAL-URL:https://ocbjelasnica.com
X-WR-CALDESC:Events for OC Bjelašnica - Zvanična stranica
REFRESH-INTERVAL;VALUE=DURATION:PT1H
X-Robots-Tag:noindex
X-PUBLISHED-TTL:PT1H
BEGIN:VTIMEZONE
TZID:Europe/Sarajevo
BEGIN:DAYLIGHT
TZOFFSETFROM:+0100
TZOFFSETTO:+0200
TZNAME:CEST
DTSTART:20240331T010000
END:DAYLIGHT
BEGIN:STANDARD
TZOFFSETFROM:+0200
TZOFFSETTO:+0100
TZNAME:CET
DTSTART:20241027T010000
END:STANDARD
END:VTIMEZONE
BEGIN:VEVENT
DTSTART;VALUE=DATE:20240203
DTEND;VALUE=DATE:20240204
DTSTAMP:20260423T165250
CREATED:20231225T132732Z
LAST-MODIFIED:20231226T101822Z
UID:3604-1706918400-1707004799@ocbjelasnica.com
SUMMARY:Ammara Mistrić Trio - Ski bar STAZA
DESCRIPTION:Muzička karijera s bendom (od 2009.) bilježi dugi niz nastupa koji se uglavnom svode na evente sa profesionalnom organizacijom i izvođenjem (privatni i javni eventi) te klupske svirke\, a Njena najpopularnija pjesma je “Vrata snova”. Ammara Mistrić je dijelila stage sa bendom Neverne bebe iz Srbije\, pjevala prateće vokale Bebeku\, i Dadi Topiću. Stil koji njeguje u svojim pjesmama je pop/rock\, sa primjesama soula i funka. 
URL:https://ocbjelasnica.com/event/ammara-mistric-trio-ski-bar-staza-2/
CATEGORIES:Staza
ATTACH;FMTTYPE=image/jpeg:https://ocbjelasnica.com/wp-content/uploads/2023/12/viber_image_2023-12-26_11-14-02-877.jpg
END:VEVENT
BEGIN:VEVENT
DTSTART;VALUE=DATE:20240203
DTEND;VALUE=DATE:20240204
DTSTAMP:20260423T165250
CREATED:20231225T132904Z
LAST-MODIFIED:20231225T132904Z
UID:3606-1706918400-1707004799@ocbjelasnica.com
SUMMARY:Dernex - Ski bar STAZA
DESCRIPTION:Ljubitelji dobrog zvuka\, spremite se za nezaboravnu noć u ski baru “Staza”! Doživite pravu rokenrol eksploziju uz grupu Derrnex. Ova energična rock grupa donosi vam vrelu atmosferu staze uz svoje hitove i klasike rock muzike. Zabava je zagarantovana\, ritam će vas podići\, a skijaški duh će se preneti na plesni podijum. Pridružite nam se na stazi “Staza” i dozvolite Derrnex-u da vas provoza kroz nezaboravnu rok avanturu!
URL:https://ocbjelasnica.com/event/dernex-ski-bar-staza-2/
CATEGORIES:Staza
ATTACH;FMTTYPE=image/jpeg:https://ocbjelasnica.com/wp-content/uploads/2023/12/276087100_1934915510051829_3053414383897677840_n.jpg
END:VEVENT
END:VCALENDAR