BEGIN:VCALENDAR
VERSION:2.0
PRODID:-//OC Bjelašnica - Zvanična stranica - ECPv6.9.0//NONSGML v1.0//EN
CALSCALE:GREGORIAN
METHOD:PUBLISH
X-ORIGINAL-URL:https://ocbjelasnica.com
X-WR-CALDESC:Events for OC Bjelašnica - Zvanična stranica
REFRESH-INTERVAL;VALUE=DURATION:PT1H
X-Robots-Tag:noindex
X-PUBLISHED-TTL:PT1H
BEGIN:VTIMEZONE
TZID:Europe/Sarajevo
BEGIN:DAYLIGHT
TZOFFSETFROM:+0100
TZOFFSETTO:+0200
TZNAME:CEST
DTSTART:20240331T010000
END:DAYLIGHT
BEGIN:STANDARD
TZOFFSETFROM:+0200
TZOFFSETTO:+0100
TZNAME:CET
DTSTART:20241027T010000
END:STANDARD
END:VTIMEZONE
BEGIN:VEVENT
DTSTART;VALUE=DATE:20240127
DTEND;VALUE=DATE:20240128
DTSTAMP:20260423T183741
CREATED:20231225T131318Z
LAST-MODIFIED:20231226T100946Z
UID:3594-1706313600-1706399999@ocbjelasnica.com
SUMMARY:Vedran i Berna - Ski bar STAZA
DESCRIPTION:Ovu subotu nas očekuje divni duo Vedran i Berna. Uživajte u laganoj atmosferi i predivnoj melodiji koju ovaj duo stvara.
URL:https://ocbjelasnica.com/event/vedran-i-berna-ski-bar-staza/
CATEGORIES:Staza
ATTACH;FMTTYPE=image/jpeg:https://ocbjelasnica.com/wp-content/uploads/2023/12/viber_image_2023-12-26_11-06-47-429.jpg
END:VEVENT
END:VCALENDAR