BEGIN:VCALENDAR
VERSION:2.0
PRODID:-//OC Bjelašnica - Zvanična stranica - ECPv6.9.0//NONSGML v1.0//EN
CALSCALE:GREGORIAN
METHOD:PUBLISH
X-ORIGINAL-URL:https://ocbjelasnica.com
X-WR-CALDESC:Events for OC Bjelašnica - Zvanična stranica
REFRESH-INTERVAL;VALUE=DURATION:PT1H
X-Robots-Tag:noindex
X-PUBLISHED-TTL:PT1H
BEGIN:VTIMEZONE
TZID:Europe/Sarajevo
BEGIN:DAYLIGHT
TZOFFSETFROM:+0100
TZOFFSETTO:+0200
TZNAME:CEST
DTSTART:20240331T010000
END:DAYLIGHT
BEGIN:STANDARD
TZOFFSETFROM:+0200
TZOFFSETTO:+0100
TZNAME:CET
DTSTART:20241027T010000
END:STANDARD
END:VTIMEZONE
BEGIN:VEVENT
DTSTART;VALUE=DATE:20240203
DTEND;VALUE=DATE:20240204
DTSTAMP:20260423T144716
CREATED:20231225T132732Z
LAST-MODIFIED:20231226T101822Z
UID:3604-1706918400-1707004799@ocbjelasnica.com
SUMMARY:Ammara Mistrić Trio - Ski bar STAZA
DESCRIPTION:Muzička karijera s bendom (od 2009.) bilježi dugi niz nastupa koji se uglavnom svode na evente sa profesionalnom organizacijom i izvođenjem (privatni i javni eventi) te klupske svirke\, a Njena najpopularnija pjesma je “Vrata snova”. Ammara Mistrić je dijelila stage sa bendom Neverne bebe iz Srbije\, pjevala prateće vokale Bebeku\, i Dadi Topiću. Stil koji njeguje u svojim pjesmama je pop/rock\, sa primjesama soula i funka. 
URL:https://ocbjelasnica.com/event/ammara-mistric-trio-ski-bar-staza-2/
CATEGORIES:Staza
ATTACH;FMTTYPE=image/jpeg:https://ocbjelasnica.com/wp-content/uploads/2023/12/viber_image_2023-12-26_11-14-02-877.jpg
END:VEVENT
BEGIN:VEVENT
DTSTART;VALUE=DATE:20240203
DTEND;VALUE=DATE:20240204
DTSTAMP:20260423T144716
CREATED:20231225T132904Z
LAST-MODIFIED:20231225T132904Z
UID:3606-1706918400-1707004799@ocbjelasnica.com
SUMMARY:Dernex - Ski bar STAZA
DESCRIPTION:Ljubitelji dobrog zvuka\, spremite se za nezaboravnu noć u ski baru “Staza”! Doživite pravu rokenrol eksploziju uz grupu Derrnex. Ova energična rock grupa donosi vam vrelu atmosferu staze uz svoje hitove i klasike rock muzike. Zabava je zagarantovana\, ritam će vas podići\, a skijaški duh će se preneti na plesni podijum. Pridružite nam se na stazi “Staza” i dozvolite Derrnex-u da vas provoza kroz nezaboravnu rok avanturu!
URL:https://ocbjelasnica.com/event/dernex-ski-bar-staza-2/
CATEGORIES:Staza
ATTACH;FMTTYPE=image/jpeg:https://ocbjelasnica.com/wp-content/uploads/2023/12/276087100_1934915510051829_3053414383897677840_n.jpg
END:VEVENT
BEGIN:VEVENT
DTSTART;VALUE=DATE:20240204
DTEND;VALUE=DATE:20240205
DTSTAMP:20260423T144716
CREATED:20231225T134100Z
LAST-MODIFIED:20231225T134100Z
UID:3608-1707004800-1707091199@ocbjelasnica.com
SUMMARY:Druženje sa Minnie i Mickijem
DESCRIPTION:Dragi mališani i roditelji\, Uzbudljivo druženje s omiljenim crtanim junacima vas čeka u ski baru “Staza”! Miki i Mini će nas obradovati svojim prisustvom\, donoseći čaroliju i smijeh. Djeca će imati priliku za fotografisanje\, igru i uživanje u posebnim aktivnostima koje smo pripremili. Svi ste pozvani da se pridružite ovom magičnom trenutku\, gdje će se svijet Miki i Minnie Mouse spojiti sa zimskim veseljem.
URL:https://ocbjelasnica.com/event/druzenje-sa-minnie-i-mickijem/
CATEGORIES:Staza
END:VEVENT
BEGIN:VEVENT
DTSTART;VALUE=DATE:20240210
DTEND;VALUE=DATE:20240211
DTSTAMP:20260423T144716
CREATED:20231225T135239Z
LAST-MODIFIED:20231226T101346Z
UID:3612-1707523200-1707609599@ocbjelasnica.com
SUMMARY:Vedran i Berna - Ski bar STAZA
DESCRIPTION:Ovu subotu nas očekuje divni duo Vedran i Berna. Uživajte u laganoj atmosferi i predivnoj melodiji koju ovaj duo stvara.
URL:https://ocbjelasnica.com/event/vedran-i-berna-ski-bar-staza-2/
CATEGORIES:Staza
ATTACH;FMTTYPE=image/jpeg:https://ocbjelasnica.com/wp-content/uploads/2023/12/viber_image_2023-12-26_11-06-47-429.jpg
END:VEVENT
BEGIN:VEVENT
DTSTART;VALUE=DATE:20240211
DTEND;VALUE=DATE:20240212
DTSTAMP:20260423T144716
CREATED:20231225T135442Z
LAST-MODIFIED:20231225T135442Z
UID:3614-1707609600-1707695999@ocbjelasnica.com
SUMMARY:Mađioničar Kenan - Ski bar STAZA
DESCRIPTION:“U mojim nastupima magija je obavezno začinjena komedijom i interaktivnog je karaktera tako da odmah imam i povratne informacije”
URL:https://ocbjelasnica.com/event/madjionicar-kenan-ski-bar-staza-3/
CATEGORIES:Staza
ATTACH;FMTTYPE=image/jpeg:https://ocbjelasnica.com/wp-content/uploads/2023/12/409659953_946425153724741_166976881679504715_n.jpg
END:VEVENT
BEGIN:VEVENT
DTSTART;VALUE=DATE:20240216
DTEND;VALUE=DATE:20240217
DTSTAMP:20260423T144716
CREATED:20231225T135647Z
LAST-MODIFIED:20231225T135843Z
UID:3616-1708041600-1708127999@ocbjelasnica.com
SUMMARY:Adna Svraka - Ski bar STAZA
DESCRIPTION:Adna Svraka je mlada pjevačica koja je svoju karijeru obilježila u poznatom balkanskom showu “Zvezda Granda”. Adna dolazi iz Sarajeva\, a njen najdraži oblik muzike je rock. Mlada rokerica osvojila je srca publike svojim neobičnim stilom i snažnim glasom\, a njeni rok nastupi su kombinacija buntovnosti i autentičnosti.
URL:https://ocbjelasnica.com/event/adna-svraka-ski-bar-staza/
CATEGORIES:Staza
ATTACH;FMTTYPE=image/webp:https://ocbjelasnica.com/wp-content/uploads/2023/12/b_221120053.webp
END:VEVENT
BEGIN:VEVENT
DTSTART;VALUE=DATE:20240218
DTEND;VALUE=DATE:20240219
DTSTAMP:20260423T144716
CREATED:20231225T140007Z
LAST-MODIFIED:20231225T140007Z
UID:3620-1708214400-1708300799@ocbjelasnica.com
SUMMARY:Mađioničar Almir - Ski bar STAZA
DESCRIPTION:Magic in Staza je događaj u kojem posebno uživaju najmlađi. Naš mađioničar (iluzionista) Almir\, postavlja interaktivnu mađioničarsku predstavu koja u toku jednog sata daje najbolje iz svijeta magije i iluzija vašoj djeci. Njegovi pomagači su naši najmlađi đaci Staze. Način na koji ih svaki put očara\, a način na koji čak i uhvati čuda odraslih je zaista čaroban. U ovom showu očekujte sve kul trikove gdje možete vidjeti njegove prijatelje: prelijepog bijelog goluba i veoma slatkog zečića. Ipak\, predstava je potpuno sigurna za djecu.
URL:https://ocbjelasnica.com/event/madjionicar-almir-ski-bar-staza-2/
CATEGORIES:Staza
ATTACH;FMTTYPE=image/webp:https://ocbjelasnica.com/wp-content/uploads/2023/12/662c39_7cd369cdb76a47fe9072f5d81352afa4mv2.webp
END:VEVENT
BEGIN:VEVENT
DTSTART;VALUE=DATE:20240223
DTEND;VALUE=DATE:20240224
DTSTAMP:20260423T144716
CREATED:20231225T140205Z
LAST-MODIFIED:20231225T140205Z
UID:3622-1708646400-1708732799@ocbjelasnica.com
SUMMARY:Adna Svraka - Ski bar STAZA
DESCRIPTION:Adna Svraka je mlada pjevačica koja je svoju karijeru obilježila u poznatom balkanskom showu “Zvezda Granda”. Adna dolazi iz Sarajeva\, a njen najdraži oblik muzike je rock. Mlada rokerica osvojila je srca publike svojim neobičnim stilom i snažnim glasom\, a njeni rok nastupi su kombinacija buntovnosti i autentičnosti.
URL:https://ocbjelasnica.com/event/adna-svraka-ski-bar-staza-2/
CATEGORIES:Staza
ATTACH;FMTTYPE=image/webp:https://ocbjelasnica.com/wp-content/uploads/2023/12/b_221120053.webp
END:VEVENT
BEGIN:VEVENT
DTSTART;VALUE=DATE:20240224
DTEND;VALUE=DATE:20240225
DTSTAMP:20260423T144716
CREATED:20231225T140346Z
LAST-MODIFIED:20231226T102858Z
UID:3624-1708732800-1708819199@ocbjelasnica.com
SUMMARY:Dunja i Adna - Ski bar STAZA
DESCRIPTION:Dunja Fazlić je pjevačica koja je bila dio programa “Zvijezda možeš biti ti”\, a i za sebe nosi mnoge godine muzičke karijere. Jedan od omiljenih izvođača\, čije pjesme Dunja često pjeva\, je legendarni Đorđe Balašević. Njen glas ukrašava Adna Mahić\, svojim maestralnim sviranjem gitare. Njih dvije skupa čine idealan duo za balade.
URL:https://ocbjelasnica.com/event/dunja-i-adna-ski-bar-staza/
CATEGORIES:Staza
ATTACH;FMTTYPE=image/jpeg:https://ocbjelasnica.com/wp-content/uploads/2023/12/viber_image_2023-12-26_11-26-38-531.jpg
END:VEVENT
BEGIN:VEVENT
DTSTART;VALUE=DATE:20240225
DTEND;VALUE=DATE:20240226
DTSTAMP:20260423T144716
CREATED:20231225T140519Z
LAST-MODIFIED:20231225T140519Z
UID:3626-1708819200-1708905599@ocbjelasnica.com
SUMMARY:Mađioničar Kenan - Ski bar STAZA
DESCRIPTION:“U mojim nastupima magija je obavezno začinjena komedijom i interaktivnog je karaktera tako da odmah imam i povratne informacije”
URL:https://ocbjelasnica.com/event/madjionicar-kenan-ski-bar-staza-4/
CATEGORIES:Staza
ATTACH;FMTTYPE=image/jpeg:https://ocbjelasnica.com/wp-content/uploads/2023/12/409659953_946425153724741_166976881679504715_n.jpg
END:VEVENT
END:VCALENDAR