BEGIN:VCALENDAR
VERSION:2.0
PRODID:-//OC Bjelašnica - Zvanična stranica - ECPv6.9.0//NONSGML v1.0//EN
CALSCALE:GREGORIAN
METHOD:PUBLISH
X-ORIGINAL-URL:https://ocbjelasnica.com
X-WR-CALDESC:Events for OC Bjelašnica - Zvanična stranica
REFRESH-INTERVAL;VALUE=DURATION:PT1H
X-Robots-Tag:noindex
X-PUBLISHED-TTL:PT1H
BEGIN:VTIMEZONE
TZID:Europe/Sarajevo
BEGIN:DAYLIGHT
TZOFFSETFROM:+0100
TZOFFSETTO:+0200
TZNAME:CEST
DTSTART:20240331T010000
END:DAYLIGHT
BEGIN:STANDARD
TZOFFSETFROM:+0200
TZOFFSETTO:+0100
TZNAME:CET
DTSTART:20241027T010000
END:STANDARD
END:VTIMEZONE
BEGIN:VEVENT
DTSTART;TZID=Europe/Sarajevo:20240202T203000
DTEND;TZID=Europe/Sarajevo:20240202T223000
DTSTAMP:20260422T210328
CREATED:20240131T100803Z
LAST-MODIFIED:20240131T111545Z
UID:3823-1706905800-1706913000@ocbjelasnica.com
SUMMARY:LANA HAMZA - Gastro pub NOMAD
DESCRIPTION:
URL:https://ocbjelasnica.com/event/lana-hamza/
CATEGORIES:Nomad
ATTACH;FMTTYPE=image/jpeg:https://ocbjelasnica.com/wp-content/uploads/2024/01/LH-scaled.jpg
END:VEVENT
BEGIN:VEVENT
DTSTART;TZID=Europe/Sarajevo:20240203T203000
DTEND;TZID=Europe/Sarajevo:20240203T223000
DTSTAMP:20260422T210328
CREATED:20240131T101151Z
LAST-MODIFIED:20240131T111958Z
UID:3832-1706992200-1706999400@ocbjelasnica.com
SUMMARY:VEDRAN & BERNA - Gastro pub NOMAD
DESCRIPTION:
URL:https://ocbjelasnica.com/event/vedran-berna/
CATEGORIES:Nomad
ATTACH;FMTTYPE=image/jpeg:https://ocbjelasnica.com/wp-content/uploads/2023/12/viber_image_2023-12-26_11-06-47-429.jpg
END:VEVENT
BEGIN:VEVENT
DTSTART;TZID=Europe/Sarajevo:20240204T130000
DTEND;TZID=Europe/Sarajevo:20240204T180000
DTSTAMP:20260422T210328
CREATED:20240131T101428Z
LAST-MODIFIED:20240131T111941Z
UID:3836-1707051600-1707069600@ocbjelasnica.com
SUMMARY:DJ MAHIR - Gastro pub NOMAD
DESCRIPTION:
URL:https://ocbjelasnica.com/event/dj-mahir/
CATEGORIES:Nomad
ATTACH;FMTTYPE=image/jpeg:https://ocbjelasnica.com/wp-content/uploads/2024/01/mahir.jpg
END:VEVENT
BEGIN:VEVENT
DTSTART;TZID=Europe/Sarajevo:20240209T203000
DTEND;TZID=Europe/Sarajevo:20240209T223000
DTSTAMP:20260422T210328
CREATED:20240131T101025Z
LAST-MODIFIED:20240131T111936Z
UID:3828-1707510600-1707517800@ocbjelasnica.com
SUMMARY:DINO DŽIHIĆ - Gastro pub NOMAD
DESCRIPTION:
URL:https://ocbjelasnica.com/event/dino-dzihic-2/
CATEGORIES:Nomad
ATTACH;FMTTYPE=image/jpeg:https://ocbjelasnica.com/wp-content/uploads/2024/01/dino-dzihic.jpg
END:VEVENT
BEGIN:VEVENT
DTSTART;TZID=Europe/Sarajevo:20240210T203000
DTEND;TZID=Europe/Sarajevo:20240210T223000
DTSTAMP:20260422T210328
CREATED:20240131T101535Z
LAST-MODIFIED:20240131T111920Z
UID:3840-1707597000-1707604200@ocbjelasnica.com
SUMMARY:AMMARA - Gastro pub NOMAD
DESCRIPTION:
URL:https://ocbjelasnica.com/event/ammara/
CATEGORIES:Nomad
ATTACH;FMTTYPE=image/jpeg:https://ocbjelasnica.com/wp-content/uploads/2023/12/viber_image_2023-12-26_11-14-02-877.jpg
END:VEVENT
BEGIN:VEVENT
DTSTART;TZID=Europe/Sarajevo:20240211T130000
DTEND;TZID=Europe/Sarajevo:20240211T180000
DTSTAMP:20260422T210328
CREATED:20240131T101726Z
LAST-MODIFIED:20240131T111913Z
UID:3842-1707656400-1707674400@ocbjelasnica.com
SUMMARY:DJ SOUL - Gastro pub NOMAD
DESCRIPTION:
URL:https://ocbjelasnica.com/event/dj-soul/
CATEGORIES:Nomad
ATTACH;FMTTYPE=image/jpeg:https://ocbjelasnica.com/wp-content/uploads/2024/01/dj-soul-600x400-1.jpg
END:VEVENT
BEGIN:VEVENT
DTSTART;TZID=Europe/Sarajevo:20240216T203000
DTEND;TZID=Europe/Sarajevo:20240216T223000
DTSTAMP:20260422T210328
CREATED:20240131T101922Z
LAST-MODIFIED:20240131T111900Z
UID:3846-1708115400-1708122600@ocbjelasnica.com
SUMMARY:GOLO - Gastro pub NOMAD
DESCRIPTION:
URL:https://ocbjelasnica.com/event/golo/
CATEGORIES:Nomad
ATTACH;FMTTYPE=image/jpeg:https://ocbjelasnica.com/wp-content/uploads/2024/01/Mirza-Golo.jpg
END:VEVENT
BEGIN:VEVENT
DTSTART;TZID=Europe/Sarajevo:20240217T203000
DTEND;TZID=Europe/Sarajevo:20240217T223000
DTSTAMP:20260422T210328
CREATED:20240131T102159Z
LAST-MODIFIED:20240131T111838Z
UID:3850-1708201800-1708209000@ocbjelasnica.com
SUMMARY:SARA & ĐURO - Gastro pub NOMAD
DESCRIPTION:
URL:https://ocbjelasnica.com/event/sara-djuro/
CATEGORIES:Nomad
ATTACH;FMTTYPE=image/webp:https://ocbjelasnica.com/wp-content/uploads/2024/01/b_200106077.webp
END:VEVENT
BEGIN:VEVENT
DTSTART;TZID=Europe/Sarajevo:20240218T130000
DTEND;TZID=Europe/Sarajevo:20240218T180000
DTSTAMP:20260422T210328
CREATED:20240131T102308Z
LAST-MODIFIED:20240131T111824Z
UID:3854-1708261200-1708279200@ocbjelasnica.com
SUMMARY:DJ SOUL - Gastro pub NOMAD
DESCRIPTION:
URL:https://ocbjelasnica.com/event/dj-soul-2/
CATEGORIES:Nomad
ATTACH;FMTTYPE=image/jpeg:https://ocbjelasnica.com/wp-content/uploads/2024/01/dj-soul-600x400-1.jpg
END:VEVENT
BEGIN:VEVENT
DTSTART;TZID=Europe/Sarajevo:20240223T203000
DTEND;TZID=Europe/Sarajevo:20240223T223000
DTSTAMP:20260422T210328
CREATED:20240131T102433Z
LAST-MODIFIED:20240131T111810Z
UID:3856-1708720200-1708727400@ocbjelasnica.com
SUMMARY:SUPRISE PARTY - Gastro pub NOMAD
DESCRIPTION:
URL:https://ocbjelasnica.com/event/suprise-party/
CATEGORIES:Nomad
ATTACH;FMTTYPE=image/png:https://ocbjelasnica.com/wp-content/uploads/2024/01/041222_Blog_SurpriseBirthdayPartyIdeas_01-hero.png
END:VEVENT
BEGIN:VEVENT
DTSTART;TZID=Europe/Sarajevo:20240224T203000
DTEND;TZID=Europe/Sarajevo:20240224T223000
DTSTAMP:20260422T210328
CREATED:20240131T102621Z
LAST-MODIFIED:20240131T111754Z
UID:3860-1708806600-1708813800@ocbjelasnica.com
SUMMARY:LANA HAMZA - Gastro pub NOMAD
DESCRIPTION:
URL:https://ocbjelasnica.com/event/lana-hamza-2/
CATEGORIES:Nomad
ATTACH;FMTTYPE=image/jpeg:https://ocbjelasnica.com/wp-content/uploads/2024/01/LH-scaled.jpg
END:VEVENT
BEGIN:VEVENT
DTSTART;TZID=Europe/Sarajevo:20240225T130000
DTEND;TZID=Europe/Sarajevo:20240225T180000
DTSTAMP:20260422T210328
CREATED:20240131T102840Z
LAST-MODIFIED:20240131T111701Z
UID:3862-1708866000-1708884000@ocbjelasnica.com
SUMMARY:DJ SLASH - Gastro pub NOMAD
DESCRIPTION:
URL:https://ocbjelasnica.com/event/dj-slash/
CATEGORIES:Nomad
ATTACH;FMTTYPE=image/jpeg:https://ocbjelasnica.com/wp-content/uploads/2023/12/4dSMY3tVO9otcnZxsmOjVSAkjstGAVQt1664538302.jpg
END:VEVENT
END:VCALENDAR