BEGIN:VCALENDAR
VERSION:2.0
PRODID:-//OC Bjelašnica - Zvanična stranica - ECPv6.9.0//NONSGML v1.0//EN
CALSCALE:GREGORIAN
METHOD:PUBLISH
X-ORIGINAL-URL:https://ocbjelasnica.com
X-WR-CALDESC:Events for OC Bjelašnica - Zvanična stranica
REFRESH-INTERVAL;VALUE=DURATION:PT1H
X-Robots-Tag:noindex
X-PUBLISHED-TTL:PT1H
BEGIN:VTIMEZONE
TZID:Europe/Sarajevo
BEGIN:DAYLIGHT
TZOFFSETFROM:+0100
TZOFFSETTO:+0200
TZNAME:CEST
DTSTART:20240331T010000
END:DAYLIGHT
BEGIN:STANDARD
TZOFFSETFROM:+0200
TZOFFSETTO:+0100
TZNAME:CET
DTSTART:20241027T010000
END:STANDARD
END:VTIMEZONE
BEGIN:VEVENT
DTSTART;VALUE=DATE:20240101
DTEND;VALUE=DATE:20240102
DTSTAMP:20260424T210651
CREATED:20231225T141658Z
LAST-MODIFIED:20231225T141658Z
UID:3628-1704067200-1704153599@ocbjelasnica.com
SUMMARY:NOBS bend - Benetton
DESCRIPTION:Uz NOBS bend je zagarantovan provod i odlična atmosfera. Počastit će nas vrhunskim repertoarom i pozitivnom emocijom !
URL:https://ocbjelasnica.com/event/nobs-bend-benetton/
CATEGORIES:Benetton
ATTACH;FMTTYPE=image/jpeg:https://ocbjelasnica.com/wp-content/uploads/2023/12/Nobs_foto-Ensad-Adilovic-Kinez.jpg
END:VEVENT
BEGIN:VEVENT
DTSTART;VALUE=DATE:20240101
DTEND;VALUE=DATE:20240102
DTSTAMP:20260424T210651
CREATED:20231225T143423Z
LAST-MODIFIED:20231225T143525Z
UID:3644-1704067200-1704153599@ocbjelasnica.com
SUMMARY:Repriza Nove Godine - Benetton
DESCRIPTION:Da li želite da ponovnite Novu Godinu? Uz NOBS bend je zagarantovan provod i odlična atmosfera. Počastit će nas vrhunskim repertoarom i pozitivnom emocijom !
URL:https://ocbjelasnica.com/event/repriza-nove-godine-benetton/
CATEGORIES:Benetton
ATTACH;FMTTYPE=image/jpeg:https://ocbjelasnica.com/wp-content/uploads/2023/12/Nobs_foto-Ensad-Adilovic-Kinez.jpg
END:VEVENT
BEGIN:VEVENT
DTSTART;VALUE=DATE:20240106
DTEND;VALUE=DATE:20240107
DTSTAMP:20260424T210651
CREATED:20231225T142100Z
LAST-MODIFIED:20231225T142100Z
UID:3632-1704499200-1704585599@ocbjelasnica.com
SUMMARY:Armin Bijedić - Benetton
DESCRIPTION:Armin Bijedić je bosanskohercegovački folk pjevač koji je rođen Sarajevu\, BiH. Popularnost je stekao nakon učešća u dva muzička takmičenja\, a to su: Zvijezda možeš biti ti (ZMBT) i Zvezde Granda. Nakon napuštanja takmičenja\, poslije nekog vremena Armin je nastavio svoju solo karijeru. Nastupa po klubovima i diskotekama\, kako u regionu\, tako i u inostranstvu\, a veoma je čest gost na privatnim proslavama kao što su svadbe i venčanja\, a i mnoge druge.
URL:https://ocbjelasnica.com/event/armin-bijedic-benetton/
CATEGORIES:Benetton
ATTACH;FMTTYPE=image/jpeg:https://ocbjelasnica.com/wp-content/uploads/2023/12/armin-bijedic-850x733-1.jpg
END:VEVENT
BEGIN:VEVENT
DTSTART;VALUE=DATE:20240113
DTEND;VALUE=DATE:20240114
DTSTAMP:20260424T210651
CREATED:20231225T142508Z
LAST-MODIFIED:20231225T142508Z
UID:3636-1705104000-1705190399@ocbjelasnica.com
SUMMARY:Neno Murić - Benetton
DESCRIPTION:Nedžad Murić\, poznatiji kao Neno Murić je crnogoski pjevač pop muzike. Popularnost je stekao objavom 2 studijska albuma: Nedostaješ mi ti i Budan sam\, te hit pjesmom Stope da ti ljubim\, te ostalih pjesama. Dobitnik je mnogobrojnih muzičkih nagrada i priznanja
URL:https://ocbjelasnica.com/event/neno-muric-benetton/
CATEGORIES:Benetton
ATTACH;FMTTYPE=image/webp:https://ocbjelasnica.com/wp-content/uploads/2023/12/b_211227058.webp
END:VEVENT
BEGIN:VEVENT
DTSTART;VALUE=DATE:20240120
DTEND;VALUE=DATE:20240121
DTSTAMP:20260424T210651
CREATED:20231225T142707Z
LAST-MODIFIED:20231225T142707Z
UID:3640-1705708800-1705795199@ocbjelasnica.com
SUMMARY:NOBS bend - Benetton
DESCRIPTION:Uz NOBS bend je zagarantovan provod i odlična atmosfera. Počastit će nas vrhunskim repertoarom i pozitivnom emocijom !
URL:https://ocbjelasnica.com/event/nobs-bend-benetton-2/
CATEGORIES:Benetton
ATTACH;FMTTYPE=image/jpeg:https://ocbjelasnica.com/wp-content/uploads/2023/12/Nobs_foto-Ensad-Adilovic-Kinez.jpg
END:VEVENT
BEGIN:VEVENT
DTSTART;VALUE=DATE:20240127
DTEND;VALUE=DATE:20240128
DTSTAMP:20260424T210651
CREATED:20231225T142817Z
LAST-MODIFIED:20231225T142817Z
UID:3642-1706313600-1706399999@ocbjelasnica.com
SUMMARY:NOBS bend - Benetton
DESCRIPTION:Uz NOBS bend je zagarantovan provod i odlična atmosfera. Počastit će nas vrhunskim repertoarom i pozitivnom emocijom !
URL:https://ocbjelasnica.com/event/nobs-bend-benetton-3/
CATEGORIES:Benetton
ATTACH;FMTTYPE=image/jpeg:https://ocbjelasnica.com/wp-content/uploads/2023/12/Nobs_foto-Ensad-Adilovic-Kinez.jpg
END:VEVENT
END:VCALENDAR